BEGIN:VCALENDAR
VERSION:2.0
PRODID:-//La Coopérative Citoyenne - ECPv6.15.20//NONSGML v1.0//EN
CALSCALE:GREGORIAN
METHOD:PUBLISH
X-ORIGINAL-URL:https://coopcitoyenne.fr
X-WR-CALDESC:Évènements pour La Coopérative Citoyenne
REFRESH-INTERVAL;VALUE=DURATION:PT1H
X-Robots-Tag:noindex
X-PUBLISHED-TTL:PT1H
BEGIN:VTIMEZONE
TZID:Europe/Paris
BEGIN:DAYLIGHT
TZOFFSETFROM:+0100
TZOFFSETTO:+0200
TZNAME:CEST
DTSTART:20180325T010000
END:DAYLIGHT
BEGIN:STANDARD
TZOFFSETFROM:+0200
TZOFFSETTO:+0100
TZNAME:CET
DTSTART:20181028T010000
END:STANDARD
BEGIN:DAYLIGHT
TZOFFSETFROM:+0100
TZOFFSETTO:+0200
TZNAME:CEST
DTSTART:20190331T010000
END:DAYLIGHT
BEGIN:STANDARD
TZOFFSETFROM:+0200
TZOFFSETTO:+0100
TZNAME:CET
DTSTART:20191027T010000
END:STANDARD
BEGIN:DAYLIGHT
TZOFFSETFROM:+0100
TZOFFSETTO:+0200
TZNAME:CEST
DTSTART:20200329T010000
END:DAYLIGHT
BEGIN:STANDARD
TZOFFSETFROM:+0200
TZOFFSETTO:+0100
TZNAME:CET
DTSTART:20201025T010000
END:STANDARD
END:VTIMEZONE
BEGIN:VEVENT
DTSTART;TZID=Europe/Paris:20191214T140000
DTEND;TZID=Europe/Paris:20191214T180000
DTSTAMP:20260420T233856
CREATED:20191129T083945Z
LAST-MODIFIED:20191211T201200Z
UID:159-1576332000-1576346400@coopcitoyenne.fr
SUMMARY:Réunion plénière du 14 décembre 2019
DESCRIPTION:La Coopérative Citoyenne vous invite à sa prochaine réunion plénière et publique le samedi 14 décembre à la salle communale de Teurthéville-Hague\, de 14h à 18h.\n\n\n \n\n\nAvant tout\, nous vous rappelons que cette plénière sera suivie d’un temps convivial au même endroit.\n\n\nCette plénière débutera à 14h00 par une rapide animation de présentation pour que nous puissions mieux nous connaître.\n\n\n\n\n\nEnsuite\, de 14h15 à 16h10 nous vous inviterons à débattre puis à voter sur les propositions. Plusieurs sont en préparation et nous vous invitons à les retrouver pour lecture avant la plénière sur notre forum à cette adresse (nécessite bien sûr d’être connecté au forum).\n\n\n\n\n\nDe 16h10 à 16h40 une pause vous sera proposée. A cette occasion\, il serait intéressant de savoir un peu plus précisément où les uns et les autres habitent à Cherbourg-en-Cotentin (ou ailleurs). Ces informations seront utiles à plusieurs titres dans les semaines à venir. En conséquence\, une carte sera projetée et nous vous inviterons à venir avec une photo que vous pourrez coller là où vous habitez. Si vous n’avez pas de photo (ou pas envie) vous pourrez simplement indiquer votre nom sur un post-it. Il n’y a bien évidemment aucune participation obligatoire.\n\n\n\n\n\nDe 16h40 à 18h10 un certain nombre d’éléments notamment relatifs au fonctionnement vous seront présentés. Nous aurons en particulier à élire notre Responsable de l’Organisation Financière indispensable pour commencer à collecter des fonds. N’hésitez pas à vous porter candidat ou à penser à des personnes qui correspondraient au profil recherché.\n\n\nA cette occasion également\, nous reviendrons sur notre organisation interne afin de compléter les besoins en coordonnateur.trice.s\, notamment citoyen.ne. Pensez-y!\n\n\n\n\n\nEnfin\, après cette session de travail\, nous vous invitons à ne pas oublier le nécessaire pour passer le moment convivial avec nous (apéro puis dîner pour ceux qui le souhaitent). Pour votre information\, aucune cuisine n’est à disposition dans la salle.
URL:https://coopcitoyenne.fr/evenement/reunion-pleniere-du-14-decembre-2019/
LOCATION:Salle communale (Teurthéville-Hague)\, 4 le bourg\, Teurthéville-Hague\, 50690\, France
CATEGORIES:Réunion plénière
ATTACH;FMTTYPE=image/png:https://coopcitoyenne.fr/wp-content/uploads/CoopVisuel_final-1-e1573427645216.png
END:VEVENT
BEGIN:VEVENT
DTSTART;TZID=Europe/Paris:20191227T140000
DTEND;TZID=Europe/Paris:20191228T170000
DTSTAMP:20260420T233856
CREATED:20191224T081235Z
LAST-MODIFIED:20191224T100839Z
UID:296-1577455200-1577552400@coopcitoyenne.fr
SUMMARY:La Fabrique participative
DESCRIPTION:Venez tester nos premières propositions\nLa Coopérative Citoyenne propose aux habitants de Cherbourg-en-Cotentin\, ainsi qu’à tous les vacanciers venus passer la période des fêtes en famille\, de venir découvrir ses premières propositions à la salle des fêtes de Cherbourg-Octeville\, place centrale.\nToujours dans l’idée de construire son programme dans une démarche de démocratie participative\, la Coopérative Citoyenne présentera ses premières propositions sous forme d’affichage.\nLes citoyens et citoyennes auront alors la possibilité de voter en faveur de la proposition qu’ils préfèrent.\nDes tables rondes seront aussi à disposition des visiteurs qui souhaiteront échanger sur des thématiques de programme.\nDes membres de la Coopérative Citoyenne seront présents pour écouter\, réfléchir et recueillir ses échanges. \n­Durant ces deux journées\, la Coopérative Citoyenne profitera de l’espace disponible dans la salle des fêtes pour construire « un arbre à vœux » qui portera les propositions des citoyens pour leur ville.\nToute aide sera la bienvenue. \nRendez-vous le vendredi 27 décembre 2019 de 14h à 17h\, mais aussi samedi 28 décembre de 9h à 17h.
URL:https://coopcitoyenne.fr/evenement/creation-arbre-a-voeux/
LOCATION:Salle des fêtes (Cherbourg-Octeville)\, Place centrale\, Cherbourg-Octeville\, 50100\, France
CATEGORIES:A la rencontre des citoyens
ATTACH;FMTTYPE=image/jpeg:https://coopcitoyenne.fr/wp-content/uploads/arisa-chattasa-Lk3ty4sz1ho-unsplash-e1576916284309.jpg
END:VEVENT
BEGIN:VEVENT
DTSTART;TZID=Europe/Paris:20191230T150000
DTEND;TZID=Europe/Paris:20191230T170000
DTSTAMP:20260420T233856
CREATED:20191229T211951Z
LAST-MODIFIED:20200102T074759Z
UID:351-1577718000-1577725200@coopcitoyenne.fr
SUMMARY:Réunion groupe Social/Solidarité
DESCRIPTION:
URL:https://coopcitoyenne.fr/evenement/reunion-groupe-social-solidarite/
CATEGORIES:Réunion de travail
END:VEVENT
BEGIN:VEVENT
DTSTART;TZID=Europe/Paris:20191230T171500
DTEND;TZID=Europe/Paris:20191230T180000
DTSTAMP:20260420T233856
CREATED:20191229T211755Z
LAST-MODIFIED:20200102T074748Z
UID:345-1577726100-1577728800@coopcitoyenne.fr
SUMMARY:Réunion groupe Organisation
DESCRIPTION:
URL:https://coopcitoyenne.fr/evenement/reunion-du-groupe-orga/
CATEGORIES:Réunion de travail
END:VEVENT
BEGIN:VEVENT
DTSTART;TZID=Europe/Paris:20191230T180000
DTEND;TZID=Europe/Paris:20191230T200000
DTSTAMP:20260420T233856
CREATED:20191229T211839Z
LAST-MODIFIED:20200102T074735Z
UID:347-1577728800-1577736000@coopcitoyenne.fr
SUMMARY:Réunion Coordination Générale
DESCRIPTION:
URL:https://coopcitoyenne.fr/evenement/reunion-coordo-generale/
CATEGORIES:Réunion de travail
END:VEVENT
END:VCALENDAR