BEGIN:VCALENDAR
VERSION:2.0
PRODID:-//La Coopérative Citoyenne - ECPv6.15.20//NONSGML v1.0//EN
CALSCALE:GREGORIAN
METHOD:PUBLISH
X-WR-CALNAME:La Coopérative Citoyenne
X-ORIGINAL-URL:https://coopcitoyenne.fr
X-WR-CALDESC:Évènements pour La Coopérative Citoyenne
REFRESH-INTERVAL;VALUE=DURATION:PT1H
X-Robots-Tag:noindex
X-PUBLISHED-TTL:PT1H
BEGIN:VTIMEZONE
TZID:Europe/Paris
BEGIN:DAYLIGHT
TZOFFSETFROM:+0100
TZOFFSETTO:+0200
TZNAME:CEST
DTSTART:20190331T010000
END:DAYLIGHT
BEGIN:STANDARD
TZOFFSETFROM:+0200
TZOFFSETTO:+0100
TZNAME:CET
DTSTART:20191027T010000
END:STANDARD
BEGIN:DAYLIGHT
TZOFFSETFROM:+0100
TZOFFSETTO:+0200
TZNAME:CEST
DTSTART:20200329T010000
END:DAYLIGHT
BEGIN:STANDARD
TZOFFSETFROM:+0200
TZOFFSETTO:+0100
TZNAME:CET
DTSTART:20201025T010000
END:STANDARD
BEGIN:DAYLIGHT
TZOFFSETFROM:+0100
TZOFFSETTO:+0200
TZNAME:CEST
DTSTART:20210328T010000
END:DAYLIGHT
BEGIN:STANDARD
TZOFFSETFROM:+0200
TZOFFSETTO:+0100
TZNAME:CET
DTSTART:20211031T010000
END:STANDARD
END:VTIMEZONE
BEGIN:VEVENT
DTSTART;TZID=Europe/Paris:20200305T200000
DTEND;TZID=Europe/Paris:20200305T230000
DTSTAMP:20260420T211056
CREATED:20200210T221500Z
LAST-MODIFIED:20200210T221500Z
UID:1180-1583438400-1583449200@coopcitoyenne.fr
SUMMARY:Réunion publique du 5 mars 2020
DESCRIPTION:La Coopérative Citoyenne vous invite à une réunion publique le jeudi 5 mars à 20h à la salle de l’Europe (rue de la Moignerie à Tourlaville).
URL:https://coopcitoyenne.fr/evenement/reunion-publique-du-5-mars-2020/
LOCATION:Salle de l’Europe (Tourlaville)\, Rue de la Moignerie\, Cherbourg-en-Cotentin\, 50110\, France
CATEGORIES:A la rencontre des citoyens
END:VEVENT
END:VCALENDAR