BEGIN:VCALENDAR
VERSION:2.0
PRODID:-//La Coopérative Citoyenne - ECPv6.15.20//NONSGML v1.0//EN
CALSCALE:GREGORIAN
METHOD:PUBLISH
X-ORIGINAL-URL:https://coopcitoyenne.fr
X-WR-CALDESC:Évènements pour La Coopérative Citoyenne
REFRESH-INTERVAL;VALUE=DURATION:PT1H
X-Robots-Tag:noindex
X-PUBLISHED-TTL:PT1H
BEGIN:VTIMEZONE
TZID:Europe/Paris
BEGIN:DAYLIGHT
TZOFFSETFROM:+0100
TZOFFSETTO:+0200
TZNAME:CEST
DTSTART:20190331T010000
END:DAYLIGHT
BEGIN:STANDARD
TZOFFSETFROM:+0200
TZOFFSETTO:+0100
TZNAME:CET
DTSTART:20191027T010000
END:STANDARD
BEGIN:DAYLIGHT
TZOFFSETFROM:+0100
TZOFFSETTO:+0200
TZNAME:CEST
DTSTART:20200329T010000
END:DAYLIGHT
BEGIN:STANDARD
TZOFFSETFROM:+0200
TZOFFSETTO:+0100
TZNAME:CET
DTSTART:20201025T010000
END:STANDARD
BEGIN:DAYLIGHT
TZOFFSETFROM:+0100
TZOFFSETTO:+0200
TZNAME:CEST
DTSTART:20210328T010000
END:DAYLIGHT
BEGIN:STANDARD
TZOFFSETFROM:+0200
TZOFFSETTO:+0100
TZNAME:CET
DTSTART:20211031T010000
END:STANDARD
END:VTIMEZONE
BEGIN:VEVENT
DTSTART;TZID=Europe/Paris:20200303T200000
DTEND;TZID=Europe/Paris:20200303T230000
DTSTAMP:20260420T211557
CREATED:20200210T212608Z
LAST-MODIFIED:20200303T131716Z
UID:1177-1583265600-1583276400@coopcitoyenne.fr
SUMMARY:Réunion publique du 3 mars 2020
DESCRIPTION:La Coopérative Citoyenne vous invite à une réunion publique le mardi 3 mars à 20h à la salle Davoury (située rue Ferdinand Buisson à Equeurdreville-Hainneville).
URL:https://coopcitoyenne.fr/evenement/reunion-publique-du-3-mars-2020/
LOCATION:Salle Davoury (Équeurdreville-Hainneville)\, Rue Ferdinand Buisson\, Equeurdreville-Hainneville\, 50120\, France
CATEGORIES:A la rencontre des citoyens
END:VEVENT
END:VCALENDAR