BEGIN:VCALENDAR
VERSION:2.0
PRODID:-//La Coopérative Citoyenne - ECPv6.15.20//NONSGML v1.0//EN
CALSCALE:GREGORIAN
METHOD:PUBLISH
X-WR-CALNAME:La Coopérative Citoyenne
X-ORIGINAL-URL:https://coopcitoyenne.fr
X-WR-CALDESC:Évènements pour La Coopérative Citoyenne
REFRESH-INTERVAL;VALUE=DURATION:PT1H
X-Robots-Tag:noindex
X-PUBLISHED-TTL:PT1H
BEGIN:VTIMEZONE
TZID:Europe/Paris
BEGIN:DAYLIGHT
TZOFFSETFROM:+0100
TZOFFSETTO:+0200
TZNAME:CEST
DTSTART:20190331T010000
END:DAYLIGHT
BEGIN:STANDARD
TZOFFSETFROM:+0200
TZOFFSETTO:+0100
TZNAME:CET
DTSTART:20191027T010000
END:STANDARD
BEGIN:DAYLIGHT
TZOFFSETFROM:+0100
TZOFFSETTO:+0200
TZNAME:CEST
DTSTART:20200329T010000
END:DAYLIGHT
BEGIN:STANDARD
TZOFFSETFROM:+0200
TZOFFSETTO:+0100
TZNAME:CET
DTSTART:20201025T010000
END:STANDARD
BEGIN:DAYLIGHT
TZOFFSETFROM:+0100
TZOFFSETTO:+0200
TZNAME:CEST
DTSTART:20210328T010000
END:DAYLIGHT
BEGIN:STANDARD
TZOFFSETFROM:+0200
TZOFFSETTO:+0100
TZNAME:CET
DTSTART:20211031T010000
END:STANDARD
END:VTIMEZONE
BEGIN:VEVENT
DTSTART;TZID=Europe/Paris:20200227T183000
DTEND;TZID=Europe/Paris:20200227T200000
DTSTAMP:20260420T211126
CREATED:20200224T134413Z
LAST-MODIFIED:20200227T083859Z
UID:1442-1582828200-1582833600@coopcitoyenne.fr
SUMMARY:Grand oral sur le vélo
DESCRIPTION:Débat organisé par Vélorution Cherbourg le jeudi 27 février de 18h30 à 20h à la salle des fêtes\, place centrale à Cherbourg-en-Cotentin.
URL:https://coopcitoyenne.fr/evenement/grand-oral-sur-le-velo/
LOCATION:Salle des fêtes (Cherbourg-Octeville)\, Place centrale\, Cherbourg-Octeville\, 50100\, France
CATEGORIES:Débat public
ATTACH;FMTTYPE=image/jpeg:https://coopcitoyenne.fr/wp-content/uploads/orale_vélo.jpg
END:VEVENT
END:VCALENDAR