BEGIN:VCALENDAR
VERSION:2.0
PRODID:-//La Coopérative Citoyenne - ECPv6.15.20//NONSGML v1.0//EN
CALSCALE:GREGORIAN
METHOD:PUBLISH
X-WR-CALNAME:La Coopérative Citoyenne
X-ORIGINAL-URL:https://coopcitoyenne.fr
X-WR-CALDESC:Évènements pour La Coopérative Citoyenne
REFRESH-INTERVAL;VALUE=DURATION:PT1H
X-Robots-Tag:noindex
X-PUBLISHED-TTL:PT1H
BEGIN:VTIMEZONE
TZID:Europe/Paris
BEGIN:DAYLIGHT
TZOFFSETFROM:+0100
TZOFFSETTO:+0200
TZNAME:CEST
DTSTART:20190331T010000
END:DAYLIGHT
BEGIN:STANDARD
TZOFFSETFROM:+0200
TZOFFSETTO:+0100
TZNAME:CET
DTSTART:20191027T010000
END:STANDARD
BEGIN:DAYLIGHT
TZOFFSETFROM:+0100
TZOFFSETTO:+0200
TZNAME:CEST
DTSTART:20200329T010000
END:DAYLIGHT
BEGIN:STANDARD
TZOFFSETFROM:+0200
TZOFFSETTO:+0100
TZNAME:CET
DTSTART:20201025T010000
END:STANDARD
BEGIN:DAYLIGHT
TZOFFSETFROM:+0100
TZOFFSETTO:+0200
TZNAME:CEST
DTSTART:20210328T010000
END:DAYLIGHT
BEGIN:STANDARD
TZOFFSETFROM:+0200
TZOFFSETTO:+0100
TZNAME:CET
DTSTART:20211031T010000
END:STANDARD
END:VTIMEZONE
BEGIN:VEVENT
DTSTART;TZID=Europe/Paris:20200125T140000
DTEND;TZID=Europe/Paris:20200125T170000
DTSTAMP:20260420T234215
CREATED:20191225T070318Z
LAST-MODIFIED:20200124T234503Z
UID:309-1579960800-1579971600@coopcitoyenne.fr
SUMMARY:Réunion plénière du 25 janvier 2020
DESCRIPTION:Ordre du jour de la plénière \n14h00 – 14h15 : Accueil et lecture des propositions à discuter et voter qui seront affichées \n14h15 – 16h00 : Vote tête de liste \n16h00-16h10 : pause \n16h10 – 16h50 : Discussion des propositions sur table \n17h00 – 18h15 : Votes des propositions en plénière
URL:https://coopcitoyenne.fr/evenement/reunion-pleniere-du-25-janvier-2020/
LOCATION:Grands Salons Mairie Cherbourg-Octeville\, 2 Place de la République\, accès par la rue de la Paix\, Cherbourg-en-Cotentin\, 50100\, France
CATEGORIES:Réunion plénière
ATTACH;FMTTYPE=image/png:https://coopcitoyenne.fr/wp-content/uploads/CoopVisuel_final-e1573191888154.png
END:VEVENT
END:VCALENDAR