BEGIN:VCALENDAR
VERSION:2.0
PRODID:-//La Coopérative Citoyenne - ECPv6.15.20//NONSGML v1.0//EN
CALSCALE:GREGORIAN
METHOD:PUBLISH
X-ORIGINAL-URL:https://coopcitoyenne.fr
X-WR-CALDESC:Évènements pour La Coopérative Citoyenne
REFRESH-INTERVAL;VALUE=DURATION:PT1H
X-Robots-Tag:noindex
X-PUBLISHED-TTL:PT1H
BEGIN:VTIMEZONE
TZID:Europe/Paris
BEGIN:DAYLIGHT
TZOFFSETFROM:+0100
TZOFFSETTO:+0200
TZNAME:CEST
DTSTART:20190331T010000
END:DAYLIGHT
BEGIN:STANDARD
TZOFFSETFROM:+0200
TZOFFSETTO:+0100
TZNAME:CET
DTSTART:20191027T010000
END:STANDARD
BEGIN:DAYLIGHT
TZOFFSETFROM:+0100
TZOFFSETTO:+0200
TZNAME:CEST
DTSTART:20200329T010000
END:DAYLIGHT
BEGIN:STANDARD
TZOFFSETFROM:+0200
TZOFFSETTO:+0100
TZNAME:CET
DTSTART:20201025T010000
END:STANDARD
BEGIN:DAYLIGHT
TZOFFSETFROM:+0100
TZOFFSETTO:+0200
TZNAME:CEST
DTSTART:20210328T010000
END:DAYLIGHT
BEGIN:STANDARD
TZOFFSETFROM:+0200
TZOFFSETTO:+0100
TZNAME:CET
DTSTART:20211031T010000
END:STANDARD
END:VTIMEZONE
BEGIN:VEVENT
DTSTART;TZID=Europe/Paris:20200123T200000
DTEND;TZID=Europe/Paris:20200123T220000
DTSTAMP:20260420T233928
CREATED:20191224T081733Z
LAST-MODIFIED:20200106T081110Z
UID:300-1579809600-1579816800@coopcitoyenne.fr
SUMMARY:Échange autour du budget municipal et de la vie de l'élu.e
DESCRIPTION:Pour répondre à plusieurs de vos questions\, un temps d’échange autour du budget municipal et de la vie de l’élu·e vous est proposé le 23 janvier 2020
URL:https://coopcitoyenne.fr/evenement/echange-autour-du-budget-municipal-et-de-la-vie-de-lelu-e/
LOCATION:Salle des mariages (Cherbourg-Octeville)\, 2 place de la République\, Cherbourg-Octeville\, 50100\, France
CATEGORIES:Réunion d'information
ATTACH;FMTTYPE=image/jpeg:https://coopcitoyenne.fr/wp-content/uploads/Paris_mairie_du_10e_arrdt_salle_des_mariages_Marianne_02.jpg
END:VEVENT
END:VCALENDAR