BEGIN:VCALENDAR
VERSION:2.0
PRODID:-//La Coopérative Citoyenne - ECPv6.15.20//NONSGML v1.0//EN
CALSCALE:GREGORIAN
METHOD:PUBLISH
X-ORIGINAL-URL:https://coopcitoyenne.fr
X-WR-CALDESC:Évènements pour La Coopérative Citoyenne
REFRESH-INTERVAL;VALUE=DURATION:PT1H
X-Robots-Tag:noindex
X-PUBLISHED-TTL:PT1H
BEGIN:VTIMEZONE
TZID:Europe/Paris
BEGIN:DAYLIGHT
TZOFFSETFROM:+0100
TZOFFSETTO:+0200
TZNAME:CEST
DTSTART:20190331T010000
END:DAYLIGHT
BEGIN:STANDARD
TZOFFSETFROM:+0200
TZOFFSETTO:+0100
TZNAME:CET
DTSTART:20191027T010000
END:STANDARD
BEGIN:DAYLIGHT
TZOFFSETFROM:+0100
TZOFFSETTO:+0200
TZNAME:CEST
DTSTART:20200329T010000
END:DAYLIGHT
BEGIN:STANDARD
TZOFFSETFROM:+0200
TZOFFSETTO:+0100
TZNAME:CET
DTSTART:20201025T010000
END:STANDARD
BEGIN:DAYLIGHT
TZOFFSETFROM:+0100
TZOFFSETTO:+0200
TZNAME:CEST
DTSTART:20210328T010000
END:DAYLIGHT
BEGIN:STANDARD
TZOFFSETFROM:+0200
TZOFFSETTO:+0100
TZNAME:CET
DTSTART:20211031T010000
END:STANDARD
END:VTIMEZONE
BEGIN:VEVENT
DTSTART;TZID=Europe/Paris:20200116T200000
DTEND;TZID=Europe/Paris:20200116T230000
DTSTAMP:20260420T233928
CREATED:20191129T084247Z
LAST-MODIFIED:20200115T105041Z
UID:163-1579204800-1579215600@coopcitoyenne.fr
SUMMARY:Réunion plénière du 16 janvier 2020
DESCRIPTION:La Coopérative Citoyenne vous invite à une réunion plénière le jeudi 16 janvier à 20h\, salle Davoury (rue Ferdinand Buisson à Equerdreville-Hainneville).\n\n\n \n\n\nNous procéderons à la première étape du choix de notre binôme tête de liste.\n\n\n \n\n\nAinsi\, lors de la prochaine plénière vous sera laissée la possibilité de « désigner/proposer » le binôme « femme/homme » qui vous parait le plus adapté pour répondre aux objectifs du binôme tête de liste.\n\n\n \n\n\nPour cela:\n\n\n– Vous êtes présent à la plénière: une urne sera mise à disposition tout le long de la plénière\n\n\n– Vous êtes absent. Deux possibilités \n\n\n * Vous pouvez faire une procuration en envoyant un mail (ou sur papier bien sûr)\n\n\n * Vous ne pouvez / voulez pas faire de procuration\, envoyez un mail avec ce lien.\n\n\n \n\n\nSi vous ne connaissez pas le nom et prénom de la / des personnes que vous souhaitez désigner\, n’hésitez pas à demander\, ou vous pourrez inscrire toute description permettant de le/la reconnaître.\n\n\nLe vote désignant notre binôme sera réalisé à la plénière du 25 janvier comme convenu initialement. \n\n\n\n\n\nNous procéderons à des échanges et votes de nos propositions.\n\n\nVous pouvez les consulter préalablement sur le forum à partir de ce sujet créé spécifiquement.\n\n\n\n\n\nPatrick Lafon\, Président de notre association de financement sera présent\, n’hésitez pas aller le voir si vous souhaitez financièrement participer à la campagne.\n\n\n \n\n\nNous lançons un appel pour une mise à disposition d’un garage\, fourgon \, camping-car etc. pouvant servir soit de local de campagne\, soit de lieu de stockage.
URL:https://coopcitoyenne.fr/evenement/reunion-pleniere-du-16-janvier-2020/
LOCATION:Salle Davoury (Équeurdreville-Hainneville)\, Rue Ferdinand Buisson\, Equeurdreville-Hainneville\, 50120\, France
CATEGORIES:Réunion plénière
ATTACH;FMTTYPE=image/png:https://coopcitoyenne.fr/wp-content/uploads/CoopVisuel_final-1-e1573427645216.png
END:VEVENT
END:VCALENDAR