BEGIN:VCALENDAR
VERSION:2.0
PRODID:-//La Coopérative Citoyenne - ECPv6.15.20//NONSGML v1.0//EN
CALSCALE:GREGORIAN
METHOD:PUBLISH
X-ORIGINAL-URL:https://coopcitoyenne.fr
X-WR-CALDESC:Évènements pour La Coopérative Citoyenne
REFRESH-INTERVAL;VALUE=DURATION:PT1H
X-Robots-Tag:noindex
X-PUBLISHED-TTL:PT1H
BEGIN:VTIMEZONE
TZID:Europe/Paris
BEGIN:DAYLIGHT
TZOFFSETFROM:+0100
TZOFFSETTO:+0200
TZNAME:CEST
DTSTART:20190331T010000
END:DAYLIGHT
BEGIN:STANDARD
TZOFFSETFROM:+0200
TZOFFSETTO:+0100
TZNAME:CET
DTSTART:20191027T010000
END:STANDARD
BEGIN:DAYLIGHT
TZOFFSETFROM:+0100
TZOFFSETTO:+0200
TZNAME:CEST
DTSTART:20200329T010000
END:DAYLIGHT
BEGIN:STANDARD
TZOFFSETFROM:+0200
TZOFFSETTO:+0100
TZNAME:CET
DTSTART:20201025T010000
END:STANDARD
BEGIN:DAYLIGHT
TZOFFSETFROM:+0100
TZOFFSETTO:+0200
TZNAME:CEST
DTSTART:20210328T010000
END:DAYLIGHT
BEGIN:STANDARD
TZOFFSETFROM:+0200
TZOFFSETTO:+0100
TZNAME:CET
DTSTART:20211031T010000
END:STANDARD
END:VTIMEZONE
BEGIN:VEVENT
DTSTART;TZID=Europe/Paris:20200109T180000
DTEND;TZID=Europe/Paris:20200109T200000
DTSTAMP:20260420T234535
CREATED:20200105T213011Z
LAST-MODIFIED:20200105T213011Z
UID:412-1578592800-1578600000@coopcitoyenne.fr
SUMMARY:Réunion groupe Communication
DESCRIPTION:
URL:https://coopcitoyenne.fr/evenement/reunion-groupe-communication/
CATEGORIES:Réunion de travail
END:VEVENT
BEGIN:VEVENT
DTSTART;TZID=Europe/Paris:20200109T203000
DTEND;TZID=Europe/Paris:20200109T223000
DTSTAMP:20260420T234535
CREATED:20200107T200609Z
LAST-MODIFIED:20200107T200609Z
UID:446-1578601800-1578609000@coopcitoyenne.fr
SUMMARY:Réunion Groupe Ecologie
DESCRIPTION:
URL:https://coopcitoyenne.fr/evenement/reunion-groupe-ecologie/
CATEGORIES:Réunion de travail
END:VEVENT
END:VCALENDAR