BEGIN:VCALENDAR
VERSION:2.0
PRODID:-//La Coopérative Citoyenne - ECPv6.15.20//NONSGML v1.0//EN
CALSCALE:GREGORIAN
METHOD:PUBLISH
X-WR-CALNAME:La Coopérative Citoyenne
X-ORIGINAL-URL:https://coopcitoyenne.fr
X-WR-CALDESC:Évènements pour La Coopérative Citoyenne
REFRESH-INTERVAL;VALUE=DURATION:PT1H
X-Robots-Tag:noindex
X-PUBLISHED-TTL:PT1H
BEGIN:VTIMEZONE
TZID:Europe/Paris
BEGIN:DAYLIGHT
TZOFFSETFROM:+0100
TZOFFSETTO:+0200
TZNAME:CEST
DTSTART:20190331T010000
END:DAYLIGHT
BEGIN:STANDARD
TZOFFSETFROM:+0200
TZOFFSETTO:+0100
TZNAME:CET
DTSTART:20191027T010000
END:STANDARD
BEGIN:DAYLIGHT
TZOFFSETFROM:+0100
TZOFFSETTO:+0200
TZNAME:CEST
DTSTART:20200329T010000
END:DAYLIGHT
BEGIN:STANDARD
TZOFFSETFROM:+0200
TZOFFSETTO:+0100
TZNAME:CET
DTSTART:20201025T010000
END:STANDARD
BEGIN:DAYLIGHT
TZOFFSETFROM:+0100
TZOFFSETTO:+0200
TZNAME:CEST
DTSTART:20210328T010000
END:DAYLIGHT
BEGIN:STANDARD
TZOFFSETFROM:+0200
TZOFFSETTO:+0100
TZNAME:CET
DTSTART:20211031T010000
END:STANDARD
END:VTIMEZONE
BEGIN:VEVENT
DTSTART;TZID=Europe/Paris:20200106T174500
DTEND;TZID=Europe/Paris:20200106T193000
DTSTAMP:20260420T234144
CREATED:20200105T213114Z
LAST-MODIFIED:20200106T145244Z
UID:414-1578332700-1578339000@coopcitoyenne.fr
SUMMARY:Réunion Coordination générale
DESCRIPTION:
URL:https://coopcitoyenne.fr/evenement/reunion-coordo-generale-2/
CATEGORIES:Réunion de travail
END:VEVENT
END:VCALENDAR