BEGIN:VCALENDAR
VERSION:2.0
PRODID:-//La Coopérative Citoyenne - ECPv6.15.20//NONSGML v1.0//EN
CALSCALE:GREGORIAN
METHOD:PUBLISH
X-WR-CALNAME:La Coopérative Citoyenne
X-ORIGINAL-URL:https://coopcitoyenne.fr
X-WR-CALDESC:Évènements pour La Coopérative Citoyenne
REFRESH-INTERVAL;VALUE=DURATION:PT1H
X-Robots-Tag:noindex
X-PUBLISHED-TTL:PT1H
BEGIN:VTIMEZONE
TZID:Europe/Paris
BEGIN:DAYLIGHT
TZOFFSETFROM:+0100
TZOFFSETTO:+0200
TZNAME:CEST
DTSTART:20190331T010000
END:DAYLIGHT
BEGIN:STANDARD
TZOFFSETFROM:+0200
TZOFFSETTO:+0100
TZNAME:CET
DTSTART:20191027T010000
END:STANDARD
BEGIN:DAYLIGHT
TZOFFSETFROM:+0100
TZOFFSETTO:+0200
TZNAME:CEST
DTSTART:20200329T010000
END:DAYLIGHT
BEGIN:STANDARD
TZOFFSETFROM:+0200
TZOFFSETTO:+0100
TZNAME:CET
DTSTART:20201025T010000
END:STANDARD
BEGIN:DAYLIGHT
TZOFFSETFROM:+0100
TZOFFSETTO:+0200
TZNAME:CEST
DTSTART:20210328T010000
END:DAYLIGHT
BEGIN:STANDARD
TZOFFSETFROM:+0200
TZOFFSETTO:+0100
TZNAME:CET
DTSTART:20211031T010000
END:STANDARD
END:VTIMEZONE
BEGIN:VEVENT
DTSTART;TZID=Europe/Paris:20200104T140000
DTEND;TZID=Europe/Paris:20200104T180000
DTSTAMP:20260420T234143
CREATED:20191129T084141Z
LAST-MODIFIED:20200101T195015Z
UID:161-1578146400-1578160800@coopcitoyenne.fr
SUMMARY:Réunion plénière du 4 janvier 2020
DESCRIPTION:La Coopérative Citoyenne vous invite à la réunion plénière le samedi 4 janvier à Tourlaville (salle de l’Europe). \nOrdre du jour de la plénière \n14h00-14h15: \nAccueil et inscriptions pour participer aux différentes actions de campagne (collage\, boîtage…) \n14h15-15h00:  \nGroupe de réflexion et d’échanges autour des propositions \nFormat: 4 groupes seront réalisés (Démocratie\, Écologie\, Politiques Sociales / Solidarité\, Tout le reste). Deux temps d’échanges de 20 minutes sont prévus. A vous de choisir vos groupes et nous vous invitons à vous rendre sur le forum pour prendre connaissance des propositions travaillées avant la plénière. \n15h00-17h00: \nPrésentation par la commission électorale des différents scénarios de listes (ou de l’unique scénario) et présentation des candidats \nDébat \nVote préférentiel anonyme \nVote sur la terminologie à employer pour présenter ces 12 personnes \nAnnonce des résultats suite au dépouillement \n17h-18h00: \nPrésentation\, débat et vote sur les propositions travaillées dans le premier temps de la plénière \n18h00-18h10: \nInformation sur le comité de soutien et vote sur sa création \nNB: Les 12 personnes élues pour représenter la liste devront rester jusqu’à la fin pour évoquer leur présentation à la presse. Si votre présence n’est pas possible\, merci de nous en prévenir par avance. \nAprès 18h00: \nApéro partagé  (et zéro déchet autant que possible) pour celles et ceux qui le souhaitent
URL:https://coopcitoyenne.fr/evenement/reunion-pleniere-du-4-janvier-2020/
LOCATION:Salle de l’Europe (Tourlaville)\, Rue de la Moignerie\, Cherbourg-en-Cotentin\, 50110\, France
CATEGORIES:Réunion plénière
ATTACH;FMTTYPE=image/png:https://coopcitoyenne.fr/wp-content/uploads/CoopVisuel_final-1-e1573427645216.png
END:VEVENT
END:VCALENDAR