BEGIN:VCALENDAR
VERSION:2.0
PRODID:-//La Coopérative Citoyenne - ECPv6.15.20//NONSGML v1.0//EN
CALSCALE:GREGORIAN
METHOD:PUBLISH
X-ORIGINAL-URL:https://coopcitoyenne.fr
X-WR-CALDESC:Évènements pour La Coopérative Citoyenne
REFRESH-INTERVAL;VALUE=DURATION:PT1H
X-Robots-Tag:noindex
X-PUBLISHED-TTL:PT1H
BEGIN:VTIMEZONE
TZID:Europe/Paris
BEGIN:DAYLIGHT
TZOFFSETFROM:+0100
TZOFFSETTO:+0200
TZNAME:CEST
DTSTART:20180325T010000
END:DAYLIGHT
BEGIN:STANDARD
TZOFFSETFROM:+0200
TZOFFSETTO:+0100
TZNAME:CET
DTSTART:20181028T010000
END:STANDARD
BEGIN:DAYLIGHT
TZOFFSETFROM:+0100
TZOFFSETTO:+0200
TZNAME:CEST
DTSTART:20190331T010000
END:DAYLIGHT
BEGIN:STANDARD
TZOFFSETFROM:+0200
TZOFFSETTO:+0100
TZNAME:CET
DTSTART:20191027T010000
END:STANDARD
BEGIN:DAYLIGHT
TZOFFSETFROM:+0100
TZOFFSETTO:+0200
TZNAME:CEST
DTSTART:20200329T010000
END:DAYLIGHT
BEGIN:STANDARD
TZOFFSETFROM:+0200
TZOFFSETTO:+0100
TZNAME:CET
DTSTART:20201025T010000
END:STANDARD
END:VTIMEZONE
BEGIN:VEVENT
DTSTART;TZID=Europe/Paris:20191127T200000
DTEND;TZID=Europe/Paris:20191127T230000
DTSTAMP:20260421T004742
CREATED:20191105T204849Z
LAST-MODIFIED:20191124T133208Z
UID:25-1574884800-1574895600@coopcitoyenne.fr
SUMMARY:Réunion plénière du 27 novembre 2019
DESCRIPTION:Réunion plénière du 27 novembre 2019 à 20h à la salle Davoury\, rue Ferdinand Buisson à Equerdreville-Haineville. \nOrdre du jour : \nA l’ordre du jour nous vous proposons : \n\nPrésentations sous forme de plénière – 30min\n\nPrésentation de la structuration de la coopérative citoyenne et appel aux candidatures pour assurer des missions de coordination et de porte-parolat\nInformation sur les comptes de campagne\, rôle du mandataire et appel à candidature\n\n\nPrésentation et échanges sous forme de groupes – 45min (possibilité d’aller sur deux table\, entre 20 et 25 min de discussions)\n\nCalendrier de campagne\nPropositions groupe Écologie\nPropositions groupe politiques sociale\nPropositions groupe démocratie\nAffiche et tract de présentation\n\n\nPause de 10 min pour laisser les rapporteurs travailler\nVotes sous forme de plénière\n\nCoordination et porte-parolat\nCalendrier de campagne\nPropositions de mandat\nNos premières affiches\nAvatar\nPour faire suite au point de situation sur les comptes de campagne\n\n\n\nPour votre information : \n\nS’il ne vous est pas possible d’être présent à cette plénière mais que vous souhaitez candidater en tant que citoyen non encarté à un poste de coordination\, il vous est possible de candidater par retour de mail à : contact@coopcitoyenne.fr\nLe groupe communication a prévu de réaliser des portraits de signataires de la charte. Dans ce cadre il est possible que vous soyez interviewé. Bien évidemment\, vous pouvez refuser.
URL:https://coopcitoyenne.fr/evenement/reunion-pleniere-du-27-novembre-2019/
LOCATION:Salle Davoury (Équeurdreville-Hainneville)\, Rue Ferdinand Buisson\, Equeurdreville-Hainneville\, 50120\, France
CATEGORIES:Réunion plénière
ATTACH;FMTTYPE=image/png:https://coopcitoyenne.fr/wp-content/uploads/CoopVisuel_final-1-e1573427645216.png
END:VEVENT
END:VCALENDAR